BEGIN:VCALENDAR
VERSION:2.0
PRODID:-//Plone.org//NONSGML plone.app.event//EN
X-WR-TIMEZONE:Europe/Madrid
BEGIN:VEVENT
SUMMARY:Reunió Padel Park Llavaneres
DTSTART;TZID=Europe/Madrid;VALUE=DATE-TIME:20220318T110000
DTEND;TZID=Europe/Madrid;VALUE=DATE-TIME:20220318T120000
DTSTAMP;VALUE=DATE-TIME:20260419T160145Z
UID:5f2fc90b233029d101fa81f004e91455
CREATED;VALUE=DATE-TIME:20220318T000000Z
CATEGORIES:Agenda institucional
LOCATION:Sala de juntes - Plaça de la Vila, 1
DESCRIPTION:Hi assistirà la regidora d'Esports, Maria José Cano
URL:https://ajllavaneres.cat/document.php?id=17578
END:VEVENT
END:VCALENDAR