BEGIN:VCALENDAR
VERSION:2.0
PRODID:-//Plone.org//NONSGML plone.app.event//EN
X-WR-TIMEZONE:Europe/Madrid
BEGIN:VEVENT
SUMMARY:El petit món del Petit Príncep
DTSTART;TZID=Europe/Madrid;VALUE=DATE-TIME:20220423T170000
DTEND;TZID=Europe/Madrid;VALUE=DATE-TIME:20220423T180000
DTSTAMP;VALUE=DATE-TIME:20260423T040116Z
UID:a93a41f1c7480bc9fbd956a3c82ef645
CREATED;VALUE=DATE-TIME:20220423T000000Z
LOCATION:Plaça de la Vila - Plaça de la Vila, 1
ORGANIZER:Regidoria de Cultura
URL:https://ajllavaneres.cat/document.php?id=17586
END:VEVENT
END:VCALENDAR