BEGIN:VCALENDAR
VERSION:2.0
PRODID:-//Plone.org//NONSGML plone.app.event//EN
X-WR-TIMEZONE:Europe/Madrid
BEGIN:VEVENT
SUMMARY:Sortida en bici
DTSTART;TZID=Europe/Madrid;VALUE=DATE-TIME:20220402T090000
DTEND;TZID=Europe/Madrid;VALUE=DATE-TIME:20220402T100000
DTSTAMP;VALUE=DATE-TIME:20260420T061721Z
UID:f4dad4a0ed337f28611335047814a917
CREATED;VALUE=DATE-TIME:20220402T000000Z
CATEGORIES:Esports
LOCATION:Casal Jove
ORGANIZER:Casal jove
COMMENT:Preu: gratuït
Durada: de 9 a 13 h
DESCRIPTION:Fem ruta!
URL:https://ajllavaneres.cat/document.php?id=17592
END:VEVENT
END:VCALENDAR