BEGIN:VCALENDAR
VERSION:2.0
PRODID:-//Plone.org//NONSGML plone.app.event//EN
X-WR-TIMEZONE:Europe/Madrid
BEGIN:VEVENT
SUMMARY:Reunió Projecte Campus de Futbol Estiu
DTSTART;TZID=Europe/Madrid;VALUE=DATE-TIME:20220325T090000
DTEND;TZID=Europe/Madrid;VALUE=DATE-TIME:20220325T100000
DTSTAMP;VALUE=DATE-TIME:20260419T201947Z
UID:4742be6f1ea49d8f32058abb1869ca2d
CREATED;VALUE=DATE-TIME:20220325T000000Z
CATEGORIES:Agenda institucional
DESCRIPTION:Hi assistirà la regidora d'Esports, Maria José Cano
URL:https://ajllavaneres.cat/document.php?id=17602
END:VEVENT
END:VCALENDAR