BEGIN:VCALENDAR
VERSION:2.0
PRODID:-//Plone.org//NONSGML plone.app.event//EN
X-WR-TIMEZONE:Europe/Madrid
BEGIN:VEVENT
SUMMARY:Reunió sobre organització d'esdeveniments esportius
DTSTART;TZID=Europe/Madrid;VALUE=DATE-TIME:20220325T100000
DTEND;TZID=Europe/Madrid;VALUE=DATE-TIME:20220325T110000
DTSTAMP;VALUE=DATE-TIME:20260419T155517Z
UID:420f758da41ca6479cb523c419e7c76b
CREATED;VALUE=DATE-TIME:20220325T000000Z
CATEGORIES:Agenda institucional
LOCATION:Sala de juntes - Plaça de la Vila, 1
ORGANIZER:Regidoria d'Esports
COMMENT:Durada: 1 hora
DESCRIPTION:Hi assistirà Maria José Cano, regidora d'Esports
URL:https://ajllavaneres.cat/document.php?id=17610
END:VEVENT
END:VCALENDAR