BEGIN:VCALENDAR
VERSION:2.0
PRODID:-//Plone.org//NONSGML plone.app.event//EN
X-WR-TIMEZONE:Europe/Madrid
BEGIN:VEVENT
SUMMARY:Reunió amb l'empresa d'esdeveniments esportius Circuit Series
DTSTART;TZID=Europe/Madrid;VALUE=DATE-TIME:20220325T100000
DTEND;TZID=Europe/Madrid;VALUE=DATE-TIME:20220325T110000
DTSTAMP;VALUE=DATE-TIME:20260420T053344Z
UID:27c455d5b67c65cf46d526f833470e16
CREATED;VALUE=DATE-TIME:20220325T000000Z
CATEGORIES:Agenda institucional
LOCATION:Sala de juntes - Plaça de la Vila, 1
DESCRIPTION:Hi assistirà la regidora d'Esports, Maria José Cano
URL:https://ajllavaneres.cat/document.php?id=17611
END:VEVENT
END:VCALENDAR