BEGIN:VCALENDAR
VERSION:2.0
PRODID:-//Plone.org//NONSGML plone.app.event//EN
X-WR-TIMEZONE:Europe/Madrid
BEGIN:VEVENT
SUMMARY:Reunió setmanal: Regidoria d'Educació
DTSTART;TZID=Europe/Madrid;VALUE=DATE-TIME:20220325T080000
DTEND;TZID=Europe/Madrid;VALUE=DATE-TIME:20220325T090000
DTSTAMP;VALUE=DATE-TIME:20260419T165332Z
UID:a541b2460dbd03cb636fd0df8dff52b2
CREATED;VALUE=DATE-TIME:20220325T000000Z
CATEGORIES:Agenda institucional
LOCATION:Sessió telemàtica
COMMENT:Durada: 1 hora
DESCRIPTION:Hi assistirà la regidora d'Educació, Maria Jose Cano
URL:https://ajllavaneres.cat/document.php?id=17614
END:VEVENT
END:VCALENDAR