BEGIN:VCALENDAR
VERSION:2.0
PRODID:-//Plone.org//NONSGML plone.app.event//EN
X-WR-TIMEZONE:Europe/Madrid
BEGIN:VEVENT
SUMMARY:Reunió setmanal: Regidoria d'Educació
DTSTART;TZID=Europe/Madrid;VALUE=DATE-TIME:20220401T110000
DTEND;TZID=Europe/Madrid;VALUE=DATE-TIME:20220401T120000
DTSTAMP;VALUE=DATE-TIME:20260419T200407Z
UID:29081497694e39317ecbdc0c7f9d6557
CREATED;VALUE=DATE-TIME:20220401T000000Z
CATEGORIES:Agenda institucional
LOCATION:Sessió telemàtica
COMMENT:Durada: 1 hora
DESCRIPTION:Hi assistirà la regidora d'Educació, Maria Jose Cano
URL:https://ajllavaneres.cat/document.php?id=17615
END:VEVENT
END:VCALENDAR