BEGIN:VCALENDAR
VERSION:2.0
PRODID:-//Plone.org//NONSGML plone.app.event//EN
X-WR-TIMEZONE:Europe/Madrid
BEGIN:VEVENT
SUMMARY:Consell Escolar Institut Llavaneres
DTSTART;TZID=Europe/Madrid;VALUE=DATE-TIME:20220330T180000
DTEND;TZID=Europe/Madrid;VALUE=DATE-TIME:20220330T190000
DTSTAMP;VALUE=DATE-TIME:20260419T142129Z
UID:01f53e29d7f8f7f25f02a7c6529ae16f
CREATED;VALUE=DATE-TIME:20220330T000000Z
CATEGORIES:Agenda institucional
LOCATION:Sessió telemàtica
ORGANIZER:IES Llavaneres
COMMENT:Durada: 1 hora 30 minuts
DESCRIPTION:Hi assistirà la regidora d'Educació, Maria José Cano
URL:https://ajllavaneres.cat/document.php?id=17655
END:VEVENT
END:VCALENDAR