BEGIN:VCALENDAR
VERSION:2.0
PRODID:-//Plone.org//NONSGML plone.app.event//EN
X-WR-TIMEZONE:Europe/Madrid
BEGIN:VEVENT
SUMMARY:Xerrada sobre el reciclatge de l'oli a l'escola Jaume Llull
DTSTART;TZID=Europe/Madrid;VALUE=DATE-TIME:20220427T150000
DTEND;TZID=Europe/Madrid;VALUE=DATE-TIME:20220427T160000
DTSTAMP;VALUE=DATE-TIME:20260422T130035Z
UID:2dab8663e668cae2542d3b1052a0b228
CREATED;VALUE=DATE-TIME:20220427T000000Z
LOCATION:Escola Jaume llull
ORGANIZER:Regidories d'Educació i Medi Ambient
COMMENT:Durada: fins a les 16:30h
URL:https://ajllavaneres.cat/document.php?id=17659
END:VEVENT
END:VCALENDAR