BEGIN:VCALENDAR
VERSION:2.0
PRODID:-//Plone.org//NONSGML plone.app.event//EN
X-WR-TIMEZONE:Europe/Madrid
BEGIN:VEVENT
SUMMARY:Reunió interna de la Regidoria d'esports
DTSTART;TZID=Europe/Madrid;VALUE=DATE-TIME:20220617T080000
DTEND;TZID=Europe/Madrid;VALUE=DATE-TIME:20220617T090000
DTSTAMP;VALUE=DATE-TIME:20260419T215928Z
UID:525848b8445a2e46590445a47750c938
CREATED;VALUE=DATE-TIME:20220408T000000Z
CATEGORIES:Agenda institucional
LOCATION:Sala de juntes - Plaça de la Vila, 1
DESCRIPTION:Hi assistirà la regidora d'Esports, Maria José Cano
URL:https://ajllavaneres.cat/document.php?id=17675
END:VEVENT
END:VCALENDAR