BEGIN:VCALENDAR
VERSION:2.0
PRODID:-//Plone.org//NONSGML plone.app.event//EN
X-WR-TIMEZONE:Europe/Madrid
BEGIN:VEVENT
SUMMARY:Cinema: 'Recordant l'Anna Frank'
DTSTART;TZID=Europe/Madrid;VALUE=DATE-TIME:20220413T200000
DTEND;TZID=Europe/Madrid;VALUE=DATE-TIME:20220413T210000
DTSTAMP;VALUE=DATE-TIME:20260422T125753Z
UID:b8b8838f3be949b3ec07b1781a851c25
CREATED;VALUE=DATE-TIME:20220413T000000Z
CATEGORIES:Cinema
LOCATION:Sala de Lectura Sunsi Móra
ORGANIZER:Secció de Cultura d'El Casal de Llavaneres
DESCRIPTION:Recollida de fons a favor d'Ucraïna
URL:https://ajllavaneres.cat/document.php?id=17682
END:VEVENT
END:VCALENDAR