BEGIN:VCALENDAR
VERSION:2.0
PRODID:-//Plone.org//NONSGML plone.app.event//EN
X-WR-TIMEZONE:Europe/Madrid
BEGIN:VEVENT
SUMMARY:Reunió per abordar gestió gratuïtat P2
DTSTART;TZID=Europe/Madrid;VALUE=DATE-TIME:20220414T110000
DTEND;TZID=Europe/Madrid;VALUE=DATE-TIME:20220414T120000
DTSTAMP;VALUE=DATE-TIME:20260420T000039Z
UID:d84935f9d73c9cd87e2986689e42f967
CREATED;VALUE=DATE-TIME:20220414T000000Z
CATEGORIES:Agenda institucional
LOCATION:Sessió telemàtica
ORGANIZER:Regidoria d'Educació
URL:https://ajllavaneres.cat/document.php?id=17720
END:VEVENT
END:VCALENDAR