BEGIN:VCALENDAR
VERSION:2.0
PRODID:-//Plone.org//NONSGML plone.app.event//EN
X-WR-TIMEZONE:Europe/Madrid
BEGIN:VEVENT
SUMMARY:Handbol
DTSTART;TZID=Europe/Madrid;VALUE=DATE-TIME:20081122T103000
DTEND;TZID=Europe/Madrid;VALUE=DATE-TIME:20081122T113000
DTSTAMP;VALUE=DATE-TIME:20260426T060840Z
UID:c3392d610bfcd740a994561ddc9db180
CREATED;VALUE=DATE-TIME:20081122T000000Z
CATEGORIES:Esports
LOCATION:CEIP Serena Vall
ORGANIZER:Club Esportiu Serena Mar
DESCRIPTION:Trobada escolar categories benjamí i aleví
URL:https://ajllavaneres.cat/document.php?id=1787
END:VEVENT
END:VCALENDAR