BEGIN:VCALENDAR
VERSION:2.0
PRODID:-//Plone.org//NONSGML plone.app.event//EN
X-WR-TIMEZONE:Europe/Madrid
BEGIN:VEVENT
SUMMARY:Poesia i +, a Llavaneres
DTSTART;TZID=Europe/Madrid;VALUE=DATE-TIME:20220629T200000
DTEND;TZID=Europe/Madrid;VALUE=DATE-TIME:20220629T210000
DTSTAMP;VALUE=DATE-TIME:20260420T053428Z
UID:10c7a044c115ce5ef6873a0e16b2bf07
CREATED;VALUE=DATE-TIME:20220629T000000Z
ORGANIZER:Fundació Palau de Caldes d'Estrac i Regidoria de Cultura de l'Ajuntament
COMMENT:Durada: 3 hores
DESCRIPTION:Als jardins de Can Caralt, a partir de les 8 del vespre
URL:https://ajllavaneres.cat/document.php?id=17939
END:VEVENT
END:VCALENDAR