BEGIN:VCALENDAR
VERSION:2.0
PRODID:-//Plone.org//NONSGML plone.app.event//EN
X-WR-TIMEZONE:Europe/Madrid
BEGIN:VEVENT
SUMMARY:Minerva Atraccions
DTSTART;TZID=Europe/Madrid;VALUE=DATE-TIME:20220717T170000
DTEND;TZID=Europe/Madrid;VALUE=DATE-TIME:20220717T180000
DTSTAMP;VALUE=DATE-TIME:20260420T071058Z
UID:234f24864d473772603690a8cf0278bb
CREATED;VALUE=DATE-TIME:20220715T000000Z
CATEGORIES:Festa,Infantils,Fira
LOCATION:Passeig de Jaume Brutau - Passeig de Jaume Brutau
ORGANIZER:Regidoria de Promoció Econòmica, Empresa, Comerç, Consum i Turisme
COMMENT:Durada: Divendres i dissabte, de 17 a 14 h; diumenge, dilluns i dimarts, de 17 a 24 h
DESCRIPTION:Les atraccions de sempre
URL:https://ajllavaneres.cat/document.php?id=17964
END:VEVENT
END:VCALENDAR