BEGIN:VCALENDAR
VERSION:2.0
PRODID:-//Plone.org//NONSGML plone.app.event//EN
X-WR-TIMEZONE:Europe/Madrid
BEGIN:VEVENT
SUMMARY:Portes obertes del Casal Jove
DTSTART;TZID=Europe/Madrid;VALUE=DATE-TIME:20220709T163000
DTEND;TZID=Europe/Madrid;VALUE=DATE-TIME:20220709T173000
DTSTAMP;VALUE=DATE-TIME:20260424T004118Z
UID:92b567153e107467b0e8aaf00a4cfbdf
CREATED;VALUE=DATE-TIME:20220709T000000Z
CATEGORIES:Trobada
LOCATION:Casal Jove - Passeig Mare de Deu de Montserrat, 45
ORGANIZER:Casal Jove de la Regidoria de Joventut
COMMENT:Preu: gratuït
Durada: entre les 16.30 i les 20 h.
URL:https://ajllavaneres.cat/document.php?id=18025
END:VEVENT
END:VCALENDAR