BEGIN:VCALENDAR
VERSION:2.0
PRODID:-//Plone.org//NONSGML plone.app.event//EN
X-WR-TIMEZONE:Europe/Madrid
BEGIN:VEVENT
SUMMARY:XXII Torneig de Pitch & Putt de Festa Major amb sortida simultània
DTSTART;TZID=Europe/Madrid;VALUE=DATE-TIME:20220717T093000
DTEND;TZID=Europe/Madrid;VALUE=DATE-TIME:20220717T103000
DTSTAMP;VALUE=DATE-TIME:20260423T104817Z
UID:64a683bcbf608efaac47734e6d09efe2
CREATED;VALUE=DATE-TIME:20220717T000000Z
CATEGORIES:Esports
LOCATION:Escola HCP1
ORGANIZER:Escola HCP1
COMMENT:Durada: Torn de matí
DESCRIPTION:Cal inscripció prèvia
URL:https://ajllavaneres.cat/document.php?id=18052
END:VEVENT
END:VCALENDAR