BEGIN:VCALENDAR
VERSION:2.0
PRODID:-//Plone.org//NONSGML plone.app.event//EN
X-WR-TIMEZONE:Europe/Madrid
BEGIN:VEVENT
SUMMARY:Pressupost Participatiu 2022-2023 | Recollida de propostes
DTSTART;TZID=Europe/Madrid;VALUE=DATE-TIME:20221002T000000
DTEND;TZID=Europe/Madrid;VALUE=DATE-TIME:20221002T010000
DTSTAMP;VALUE=DATE-TIME:20260420T052444Z
UID:c4e6b4632eb2ac03d9f18f35016f0f86
CREATED;VALUE=DATE-TIME:20220721T000000Z
CATEGORIES:Procés participatiu
LOCATION:Presentació telemàtica de les propostes, aquí.
ORGANIZER:Regidoria de Participació Ciutadana
COMMENT:Preu: Gratuït
URL:https://ajllavaneres.cat/document.php?id=18128
END:VEVENT
END:VCALENDAR