BEGIN:VCALENDAR
VERSION:2.0
PRODID:-//Plone.org//NONSGML plone.app.event//EN
X-WR-TIMEZONE:Europe/Madrid
BEGIN:VEVENT
SUMMARY:Pressupost Participatiu 2022-2023 | Presentació dels projectes finalistes
DTSTART;TZID=Europe/Madrid;VALUE=DATE-TIME:20221220T200000
DTEND;TZID=Europe/Madrid;VALUE=DATE-TIME:20221220T210000
DTSTAMP;VALUE=DATE-TIME:20260419T165204Z
UID:cf938c0c21f4943d673e370e2c402c83
CREATED;VALUE=DATE-TIME:20221220T000000Z
CATEGORIES:Procés participatiu,Agenda de l'alcalde,Agenda institucional
LOCATION:Sala d'actes de la Biblioteca Municipal - Closens, 65
ORGANIZER:Regidoria de Participació Ciutadana
COMMENT:Preu: Gratuït
DESCRIPTION:Hi assistiran l'alcalde, Nani Mora, el regidor d'Economia, Albert Sala, i el regidor de Participació Ciutadana, Gerard Viladomat
URL:https://ajllavaneres.cat/document.php?id=18134
END:VEVENT
END:VCALENDAR