BEGIN:VCALENDAR
VERSION:2.0
PRODID:-//Plone.org//NONSGML plone.app.event//EN
X-WR-TIMEZONE:Europe/Madrid
BEGIN:VEVENT
SUMMARY:Xerrada sobre la kinesiologia educativa
DTSTART;TZID=Europe/Madrid;VALUE=DATE-TIME:20220922T180000
DTEND;TZID=Europe/Madrid;VALUE=DATE-TIME:20220922T190000
DTSTAMP;VALUE=DATE-TIME:20260422T193404Z
UID:d5aba35b3d0cdd5a532607d7279c32a9
CREATED;VALUE=DATE-TIME:20220922T000000Z
CATEGORIES:Conferència
LOCATION:Sala d'actes de la Biblioteca Municipal
ORGANIZER:Biblioteca Municipal
COMMENT:Preu: gratuït
Durada: 1 hora
URL:https://ajllavaneres.cat/document.php?id=18157
END:VEVENT
END:VCALENDAR