BEGIN:VCALENDAR
VERSION:2.0
PRODID:-//Plone.org//NONSGML plone.app.event//EN
X-WR-TIMEZONE:Europe/Madrid
BEGIN:VEVENT
SUMMARY:Alimentabò, fira d'alimentació, de la tardor i el bolet
DTSTART;TZID=Europe/Madrid;VALUE=DATE-TIME:20081123T100000
DTEND;TZID=Europe/Madrid;VALUE=DATE-TIME:20081123T110000
DTSTAMP;VALUE=DATE-TIME:20260426T062312Z
UID:b92984522aa09d496e014a2f0417d0e0
CREATED;VALUE=DATE-TIME:20081123T000000Z
LOCATION:Passeig de la Mare de Déu de Montserrat
ORGANIZER:Regidoria de Promoció Econòmica, Comerç i Turisme
COMMENT:Durada: Fins a les 14.00 h
DESCRIPTION:Exposició i venda de productes
URL:https://ajllavaneres.cat/document.php?id=1823
END:VEVENT
END:VCALENDAR