BEGIN:VCALENDAR
VERSION:2.0
PRODID:-//Plone.org//NONSGML plone.app.event//EN
X-WR-TIMEZONE:Europe/Madrid
BEGIN:VEVENT
SUMMARY:Assemblea jove
DTSTART;TZID=Europe/Madrid;VALUE=DATE-TIME:20220903T170000
DTEND;TZID=Europe/Madrid;VALUE=DATE-TIME:20220903T180000
DTSTAMP;VALUE=DATE-TIME:20260423T145616Z
UID:1cf7bc1408199e1bcc072cb9813fc2ad
CREATED;VALUE=DATE-TIME:20220903T000000Z
CATEGORIES:Reunió,Trobada,Procés participatiu
LOCATION:Casal Jove - Passeig Mare de Deu de Montserrat, 45
COMMENT:Preu: gratuït
Durada: 1 hora
URL:https://ajllavaneres.cat/document.php?id=18238
END:VEVENT
END:VCALENDAR