BEGIN:VCALENDAR
VERSION:2.0
PRODID:-//Plone.org//NONSGML plone.app.event//EN
X-WR-TIMEZONE:Europe/Madrid
BEGIN:VEVENT
SUMMARY:Fem polseres de fils
DTSTART;TZID=Europe/Madrid;VALUE=DATE-TIME:20220908T170000
DTEND;TZID=Europe/Madrid;VALUE=DATE-TIME:20220908T180000
DTSTAMP;VALUE=DATE-TIME:20260422T191511Z
UID:27cf4a5407cea64f413b41adf2f97d00
CREATED;VALUE=DATE-TIME:20220908T000000Z
CATEGORIES:Cursos,Trobada,Procés participatiu
LOCATION:Casal Jove - Passeig Mare de Deu de Montserrat, 45
COMMENT:Preu: gratuït
Durada: de 17 a 19 h
URL:https://ajllavaneres.cat/document.php?id=18240
END:VEVENT
END:VCALENDAR