BEGIN:VCALENDAR
VERSION:2.0
PRODID:-//Plone.org//NONSGML plone.app.event//EN
X-WR-TIMEZONE:Europe/Madrid
BEGIN:VEVENT
SUMMARY:Taller de circ
DTSTART;TZID=Europe/Madrid;VALUE=DATE-TIME:20220910T170000
DTEND;TZID=Europe/Madrid;VALUE=DATE-TIME:20220910T180000
DTSTAMP;VALUE=DATE-TIME:20260423T022731Z
UID:6b5940756c990f82e9626fa6a4a37750
CREATED;VALUE=DATE-TIME:20220910T000000Z
CATEGORIES:Esports,Reunió,Trobada
LOCATION:Casal Jove - Passeig Mare de Deu de Montserrat, 45
COMMENT:Preu: gratuït
Durada: de 17 a 20 h
URL:https://ajllavaneres.cat/document.php?id=18242
END:VEVENT
END:VCALENDAR