BEGIN:VCALENDAR
VERSION:2.0
PRODID:-//Plone.org//NONSGML plone.app.event//EN
X-WR-TIMEZONE:Europe/Madrid
BEGIN:VEVENT
SUMMARY:Streetbattlesllava
DTSTART;TZID=Europe/Madrid;VALUE=DATE-TIME:20220910T170000
DTEND;TZID=Europe/Madrid;VALUE=DATE-TIME:20220910T180000
DTSTAMP;VALUE=DATE-TIME:20260422T114840Z
UID:5977232b1e51a926bd3d7d38a31bc020
CREATED;VALUE=DATE-TIME:20220910T000000Z
CATEGORIES:Música,Reunió,Trobada,Procés participatiu
LOCATION:Casal Jove - Passeig Mare de Deu de Montserrat, 45
ORGANIZER:Streetbattlesllava i Casal Jove
COMMENT:Preu: gratuït
Durada: de 17 a 20 h
DESCRIPTION:Batalles de rap
URL:https://ajllavaneres.cat/document.php?id=18243
END:VEVENT
END:VCALENDAR