BEGIN:VCALENDAR
VERSION:2.0
PRODID:-//Plone.org//NONSGML plone.app.event//EN
X-WR-TIMEZONE:Europe/Madrid
BEGIN:VEVENT
SUMMARY:Bingo musical
DTSTART;TZID=Europe/Madrid;VALUE=DATE-TIME:20220916T170000
DTEND;TZID=Europe/Madrid;VALUE=DATE-TIME:20220916T180000
DTSTAMP;VALUE=DATE-TIME:20260420T133057Z
UID:1ead0c5d00e7bc80233e114488029ed6
CREATED;VALUE=DATE-TIME:20220916T000000Z
CATEGORIES:Música,Trobada,Procés participatiu
LOCATION:Casal Jove - Passeig Mare de Deu de Montserrat, 45
COMMENT:Preu: gratuït
Durada: de 17 a 18 h
URL:https://ajllavaneres.cat/document.php?id=18246
END:VEVENT
END:VCALENDAR