BEGIN:VCALENDAR
VERSION:2.0
PRODID:-//Plone.org//NONSGML plone.app.event//EN
X-WR-TIMEZONE:Europe/Madrid
BEGIN:VEVENT
SUMMARY:Construïm un refugi per a gats
DTSTART;TZID=Europe/Madrid;VALUE=DATE-TIME:20220920T160000
DTEND;TZID=Europe/Madrid;VALUE=DATE-TIME:20220920T170000
DTSTAMP;VALUE=DATE-TIME:20260422T144426Z
UID:e0ae9fb9c033fcc2052585488a531d10
CREATED;VALUE=DATE-TIME:20220920T000000Z
CATEGORIES:Cursos,Trobada,Procés participatiu
LOCATION:Casal Jove - Passeig Mare de Deu de Montserrat, 45
ORGANIZER:Casal Jove i Adall
COMMENT:Preu: gratuït
Durada: de 16 a 19.30 h
URL:https://ajllavaneres.cat/document.php?id=18248
END:VEVENT
END:VCALENDAR