BEGIN:VCALENDAR
VERSION:2.0
PRODID:-//Plone.org//NONSGML plone.app.event//EN
X-WR-TIMEZONE:Europe/Madrid
BEGIN:VEVENT
SUMMARY:Anem a la protectora de Mataró
DTSTART;TZID=Europe/Madrid;VALUE=DATE-TIME:20220923T160000
DTEND;TZID=Europe/Madrid;VALUE=DATE-TIME:20220923T170000
DTSTAMP;VALUE=DATE-TIME:20260423T055827Z
UID:b6cf4e203d3eca5415f01fc4cb7e82b4
CREATED;VALUE=DATE-TIME:20220923T000000Z
CATEGORIES:Cursos,Trobada,Procés participatiu
LOCATION:Altre (ho explico més avall)
ORGANIZER:Casal Jove i la Protectora de Mataró
COMMENT:Preu: gratuït
Durada: de 16 a 20 h
URL:https://ajllavaneres.cat/document.php?id=18249
END:VEVENT
END:VCALENDAR