BEGIN:VCALENDAR
VERSION:2.0
PRODID:-//Plone.org//NONSGML plone.app.event//EN
X-WR-TIMEZONE:Europe/Madrid
BEGIN:VEVENT
SUMMARY:Reunió amb el Club de Golf Llavaneres
DTSTART;TZID=Europe/Madrid;VALUE=DATE-TIME:20220907T110000
DTEND;TZID=Europe/Madrid;VALUE=DATE-TIME:20220907T120000
DTSTAMP;VALUE=DATE-TIME:20260423T040928Z
UID:b0567f66bab5b6814aceb9313c7b3f78
CREATED;VALUE=DATE-TIME:20220907T000000Z
CATEGORIES:Esports,Agenda institucional
LOCATION:Sala de juntes - Plaça de la Vila, 1
ORGANIZER:Regidoria d'Esports
COMMENT:Durada: 1 hora
DESCRIPTION:Hi assistirà Mateu Pou, regidor d'Esports
URL:https://ajllavaneres.cat/document.php?id=18270
END:VEVENT
END:VCALENDAR