BEGIN:VCALENDAR
VERSION:2.0
PRODID:-//Plone.org//NONSGML plone.app.event//EN
X-WR-TIMEZONE:Europe/Madrid
BEGIN:VEVENT
SUMMARY:Cicle de seminaris sectorials: 'Treball, Talent i Tecnologia'
DTSTART;TZID=Europe/Madrid;VALUE=DATE-TIME:20220923T133000
DTEND;TZID=Europe/Madrid;VALUE=DATE-TIME:20220923T143000
DTSTAMP;VALUE=DATE-TIME:20260423T040046Z
UID:b89ba752501fe5a3b1e267c9ee950488
CREATED;VALUE=DATE-TIME:20220923T000000Z
CATEGORIES:Conferència
LOCATION:Sala d'actes de la Biblioteca Municipal - Closens, 65
COMMENT:Durada: Fins a les 16.30 h
DESCRIPTION:Seminari 1: Sector Sanitat
URL:https://ajllavaneres.cat/document.php?id=18282
END:VEVENT
END:VCALENDAR