BEGIN:VCALENDAR
VERSION:2.0
PRODID:-//Plone.org//NONSGML plone.app.event//EN
X-WR-TIMEZONE:Europe/Madrid
BEGIN:VEVENT
SUMMARY:Portes obertes de l'Escola de Bàsquet
DTSTART;TZID=Europe/Madrid;VALUE=DATE-TIME:20220929T170000
DTEND;TZID=Europe/Madrid;VALUE=DATE-TIME:20220929T180000
DTSTAMP;VALUE=DATE-TIME:20260422T144441Z
UID:d3f1693219e80774dfd03383c725c3f9
CREATED;VALUE=DATE-TIME:20220908T000000Z
CATEGORIES:Esports
LOCATION:Nou Pavelló d'Esports - Avinguda de Sant Andreu, 88
ORGANIZER:Club Bàsquet 3 Viles, amb el suport de la Regidoria d'Esports
COMMENT:Durada: Dimarts i dijous de setembre. De 17 a 18 h.
URL:https://ajllavaneres.cat/document.php?id=18291
END:VEVENT
END:VCALENDAR