BEGIN:VCALENDAR
VERSION:2.0
PRODID:-//Plone.org//NONSGML plone.app.event//EN
X-WR-TIMEZONE:Europe/Madrid
BEGIN:VEVENT
SUMMARY:Concert de Banda i vermut popular
DTSTART;TZID=Europe/Madrid;VALUE=DATE-TIME:20220925T113000
DTEND;TZID=Europe/Madrid;VALUE=DATE-TIME:20220925T123000
DTSTAMP;VALUE=DATE-TIME:20260423T055932Z
UID:99f724fb19601b4fa1fe9d1808ff6c45
CREATED;VALUE=DATE-TIME:20220925T000000Z
CATEGORIES:Música
LOCATION:Pati d'El Casal de Llavaneres
ORGANIZER:El Casal de Llavaneres
COMMENT:Preu: Entrada lliure
Durada: Fins a les 12.30 h
DESCRIPTION:La Minerva Modernista
URL:https://ajllavaneres.cat/document.php?id=18325
END:VEVENT
END:VCALENDAR