BEGIN:VCALENDAR
VERSION:2.0
PRODID:-//Plone.org//NONSGML plone.app.event//EN
X-WR-TIMEZONE:Europe/Madrid
BEGIN:VEVENT
SUMMARY:Dinar gallec
DTSTART;TZID=Europe/Madrid;VALUE=DATE-TIME:20220925T140000
DTEND;TZID=Europe/Madrid;VALUE=DATE-TIME:20220925T150000
DTSTAMP;VALUE=DATE-TIME:20260423T022528Z
UID:93e07b134b252f5dca29f344e5b364b3
CREATED;VALUE=DATE-TIME:20220925T000000Z
CATEGORIES:Festa
LOCATION:Pati d'El Casal de Llavaneres
ORGANIZER:El Casal de Llavaneres
COMMENT:Preu: Soci 27&euro;; no socis 30&euro;
Durada: Dues hores
DESCRIPTION:La Minerva Modernista
URL:https://ajllavaneres.cat/document.php?id=18326
END:VEVENT
END:VCALENDAR