BEGIN:VCALENDAR
VERSION:2.0
PRODID:-//Plone.org//NONSGML plone.app.event//EN
X-WR-TIMEZONE:Europe/Madrid
BEGIN:VEVENT
SUMMARY:Reunió informativa per a comunitats
DTSTART;TZID=Europe/Madrid;VALUE=DATE-TIME:20220924T100000
DTEND;TZID=Europe/Madrid;VALUE=DATE-TIME:20220924T110000
DTSTAMP;VALUE=DATE-TIME:20260422T161428Z
UID:46ba44c61e4d2ca972e4bceaad34b834
CREATED;VALUE=DATE-TIME:20220924T000000Z
CATEGORIES:Reunió
LOCATION:El Casal de Llavaneres
DESCRIPTION:Recollida porta a porta
URL:https://ajllavaneres.cat/document.php?id=18338
END:VEVENT
END:VCALENDAR