BEGIN:VCALENDAR
VERSION:2.0
PRODID:-//Plone.org//NONSGML plone.app.event//EN
X-WR-TIMEZONE:Europe/Madrid
BEGIN:VEVENT
SUMMARY:Reunió informativa
DTSTART;TZID=Europe/Madrid;VALUE=DATE-TIME:20220924T120000
DTEND;TZID=Europe/Madrid;VALUE=DATE-TIME:20220924T130000
DTSTAMP;VALUE=DATE-TIME:20260422T183351Z
UID:3df2376b7eb9e107ec4acd534f4f8ebd
CREATED;VALUE=DATE-TIME:20220924T000000Z
CATEGORIES:Reunió
LOCATION:El Casal de Llavaneres
DESCRIPTION:Recollida porta a porta
URL:https://ajllavaneres.cat/document.php?id=18339
END:VEVENT
END:VCALENDAR