BEGIN:VCALENDAR
VERSION:2.0
PRODID:-//Plone.org//NONSGML plone.app.event//EN
X-WR-TIMEZONE:Europe/Madrid
BEGIN:VEVENT
SUMMARY:Obertura de l'Oficina del porta a porta
DTSTART;TZID=Europe/Madrid;VALUE=DATE-TIME:20220927T100000
DTEND;TZID=Europe/Madrid;VALUE=DATE-TIME:20220927T110000
DTSTAMP;VALUE=DATE-TIME:20260422T230949Z
UID:392e3a22296aa6d9869cd260a1ac0ab6
CREATED;VALUE=DATE-TIME:20220927T000000Z
CATEGORIES:Reunió
LOCATION:Oficina de Turisme - Passeig de la Riera, s/n
URL:https://ajllavaneres.cat/document.php?id=18340
END:VEVENT
END:VCALENDAR