BEGIN:VCALENDAR
VERSION:2.0
PRODID:-//Plone.org//NONSGML plone.app.event//EN
X-WR-TIMEZONE:Europe/Madrid
BEGIN:VEVENT
SUMMARY:Lliurament del material del porta a porta
DTSTART;TZID=Europe/Madrid;VALUE=DATE-TIME:20220926T140000
DTEND;TZID=Europe/Madrid;VALUE=DATE-TIME:20220926T150000
DTSTAMP;VALUE=DATE-TIME:20260422T210822Z
UID:3c20b77ffc563d88231fdb8c37b22f81
CREATED;VALUE=DATE-TIME:20220926T000000Z
CATEGORIES:Reunió
LOCATION:Parc de Ca l'Alfaro - Passeig de la Mare de Déu de Montserrat, 27-33
COMMENT:Durada: Fins al 15 d'octubre
URL:https://ajllavaneres.cat/document.php?id=18341
END:VEVENT
END:VCALENDAR