BEGIN:VCALENDAR
VERSION:2.0
PRODID:-//Plone.org//NONSGML plone.app.event//EN
X-WR-TIMEZONE:Europe/Madrid
BEGIN:VEVENT
SUMMARY:64è Homenatge a la Vellesa
DTSTART;TZID=Europe/Madrid;VALUE=DATE-TIME:20220925T113000
DTEND;TZID=Europe/Madrid;VALUE=DATE-TIME:20220925T123000
DTSTAMP;VALUE=DATE-TIME:20260422T225132Z
UID:b54e3eeb8eeee6176b68010f983e09ba
CREATED;VALUE=DATE-TIME:20220925T000000Z
CATEGORIES:Festa
ORGANIZER:Patronat de la Vellesa, amb la col·laboració de l'Ajuntament de Sant Andreu de Llavaneres
DESCRIPTION:Adreçat a majors de 75 anys
URL:https://ajllavaneres.cat/document.php?id=18343
END:VEVENT
END:VCALENDAR