BEGIN:VCALENDAR
VERSION:2.0
PRODID:-//Plone.org//NONSGML plone.app.event//EN
X-WR-TIMEZONE:Europe/Madrid
BEGIN:VEVENT
SUMMARY:Consells de Seguretat: Gent Gran
DTSTART;TZID=Europe/Madrid;VALUE=DATE-TIME:20221104T100000
DTEND;TZID=Europe/Madrid;VALUE=DATE-TIME:20221104T110000
DTSTAMP;VALUE=DATE-TIME:20260422T025007Z
UID:799b89c19a2f8a11bb17b674a4e1fa27
CREATED;VALUE=DATE-TIME:20221104T000000Z
CATEGORIES:Conferència
LOCATION:Sala d'actes de la Biblioteca Municipal
ORGANIZER:Mossos d'Esquadra. Biblioteca Municipal
COMMENT:Preu: Gratuït
URL:https://ajllavaneres.cat/document.php?id=18349
END:VEVENT
END:VCALENDAR