BEGIN:VCALENDAR
VERSION:2.0
PRODID:-//Plone.org//NONSGML plone.app.event//EN
X-WR-TIMEZONE:Europe/Madrid
BEGIN:VEVENT
SUMMARY:Una nadala per a La Marató de TV3
DTSTART;TZID=Europe/Madrid;VALUE=DATE-TIME:20221211T123000
DTEND;TZID=Europe/Madrid;VALUE=DATE-TIME:20221211T133000
DTSTAMP;VALUE=DATE-TIME:20260420T070900Z
UID:b92770a1389517de676b060da5792c5f
CREATED;VALUE=DATE-TIME:20221211T000000Z
CATEGORIES:Música
LOCATION:Plaça de la Vila - Plaça de la Vila, 1
ORGANIZER:Llavaneres amb la Marató de TV3
URL:https://ajllavaneres.cat/document.php?id=18498
END:VEVENT
END:VCALENDAR