BEGIN:VCALENDAR
VERSION:2.0
PRODID:-//Plone.org//NONSGML plone.app.event//EN
X-WR-TIMEZONE:Europe/Madrid
BEGIN:VEVENT
SUMMARY:Vermut musical amb ABBSOLUT de l'EMM Llavaneres i Els Barbuts Jazz Band
DTSTART;TZID=Europe/Madrid;VALUE=DATE-TIME:20221204T121500
DTEND;TZID=Europe/Madrid;VALUE=DATE-TIME:20221204T131500
DTSTAMP;VALUE=DATE-TIME:20260420T095001Z
UID:d880bb5ec5296b0f5b3168fb80a7f40e
CREATED;VALUE=DATE-TIME:20221204T000000Z
CATEGORIES:Música
LOCATION:Plaça de la Vila - Plaça de la Vila, 1
ORGANIZER:Llavaneres amb la Marató de TV3
COMMENT:Preu: 5 euros
DESCRIPTION:A benefici de La Marató de TV3
URL:https://ajllavaneres.cat/document.php?id=18501
END:VEVENT
END:VCALENDAR