BEGIN:VCALENDAR
VERSION:2.0
PRODID:-//Plone.org//NONSGML plone.app.event//EN
X-WR-TIMEZONE:Europe/Madrid
BEGIN:VEVENT
SUMMARY:Passejada i ball de gegants
DTSTART;TZID=Europe/Madrid;VALUE=DATE-TIME:20221119T180000
DTEND;TZID=Europe/Madrid;VALUE=DATE-TIME:20221119T190000
DTSTAMP;VALUE=DATE-TIME:20260422T162127Z
UID:ca1739dd4e6d460d557360602b04802f
CREATED;VALUE=DATE-TIME:20221119T000000Z
CATEGORIES:Exposició,Festa,Fira,Agenda institucional
LOCATION:Parc del Primer d'Octubre - Passeig de la Mare de Déu de Montserrat
ORGANIZER:Regidoria de Promoció Econòmica, Empresa, Comerç, Turisme i Consum
URL:https://ajllavaneres.cat/document.php?id=18547
END:VEVENT
END:VCALENDAR