BEGIN:VCALENDAR
VERSION:2.0
PRODID:-//Plone.org//NONSGML plone.app.event//EN
X-WR-TIMEZONE:Europe/Madrid
BEGIN:VEVENT
SUMMARY:Concurs: Menja coca i penja la teva fotografia a Instagram
DTSTART;TZID=Europe/Madrid;VALUE=DATE-TIME:20221119T000000
DTEND;TZID=Europe/Madrid;VALUE=DATE-TIME:20221119T010000
DTSTAMP;VALUE=DATE-TIME:20260420T053803Z
UID:d5590dba356b693c8889921411663a48
CREATED;VALUE=DATE-TIME:20221119T000000Z
CATEGORIES:Fira
LOCATION:Concurs a Instagram.
ORGANIZER:Regidoria de Promoció Econòmica, Empresa, Comerç, Turisme i Consum
URL:https://ajllavaneres.cat/document.php?id=18556
END:VEVENT
END:VCALENDAR