BEGIN:VCALENDAR
VERSION:2.0
PRODID:-//Plone.org//NONSGML plone.app.event//EN
X-WR-TIMEZONE:Europe/Madrid
BEGIN:VEVENT
SUMMARY:Audició d'alumnes de cant, guitarra i baix de l'EMM Llavaneres
DTSTART;TZID=Europe/Madrid;VALUE=DATE-TIME:20221220T183000
DTEND;TZID=Europe/Madrid;VALUE=DATE-TIME:20221220T193000
DTSTAMP;VALUE=DATE-TIME:20260420T061831Z
UID:81b88289edfd62a889b9feaefbe198ad
CREATED;VALUE=DATE-TIME:20221220T000000Z
CATEGORIES:Mostra,Música,Agenda E.M.M.
LOCATION:Sala polivalent de Ca l'Alfaro - Passeig de la Mare de Déu de Montserrat, 27-33
ORGANIZER:Escola Municipal de Música Llavaneres
COMMENT:Preu: Gratuït
URL:https://ajllavaneres.cat/document.php?id=18590
END:VEVENT
END:VCALENDAR