BEGIN:VCALENDAR
VERSION:2.0
PRODID:-//Plone.org//NONSGML plone.app.event//EN
X-WR-TIMEZONE:Europe/Madrid
BEGIN:VEVENT
SUMMARY:Taller de màgia
DTSTART;TZID=Europe/Madrid;VALUE=DATE-TIME:20230103T160000
DTEND;TZID=Europe/Madrid;VALUE=DATE-TIME:20230103T170000
DTSTAMP;VALUE=DATE-TIME:20260420T030048Z
UID:032c50a799530e66e56eb296e4cdc4f9
CREATED;VALUE=DATE-TIME:20230103T000000Z
CATEGORIES:Infantils,Trobada
LOCATION:El Casal de Llavaneres - Avinguda de Catalunya, 56
ORGANIZER:Regidoria de Joventut
COMMENT:Durada: 2 hores
DESCRIPTION:Aforament limitat sense inscripció prèvia
URL:https://ajllavaneres.cat/document.php?id=18626
END:VEVENT
END:VCALENDAR