BEGIN:VCALENDAR
VERSION:2.0
PRODID:-//Plone.org//NONSGML plone.app.event//EN
X-WR-TIMEZONE:Europe/Madrid
BEGIN:VEVENT
SUMMARY:XXXII Exposició col·lectiva d'artistes locals
DTSTART;TZID=Europe/Madrid;VALUE=DATE-TIME:20221208T190000
DTEND;TZID=Europe/Madrid;VALUE=DATE-TIME:20221208T200000
DTSTAMP;VALUE=DATE-TIME:20260420T092105Z
UID:750b642f30286c67cfc715ec9f3498f9
CREATED;VALUE=DATE-TIME:20221126T000000Z
CATEGORIES:Exposició
LOCATION:SALA D'EXPOSICIONS D'EL CASAL - Espai Joaquim Bertran - Avinguda de Catalunya, 56
ORGANIZER:Secció de Cultura d'El Casal
COMMENT:Preu: 5&euro; no socis - 3&euro; socis d'El Casal
Durada: Divendres i dissabte de 18'00 a 20'00h i diumenges i festius d'11 a 14 h i de 18'00 a 20'00h
URL:https://ajllavaneres.cat/document.php?id=18648
END:VEVENT
END:VCALENDAR