BEGIN:VCALENDAR
VERSION:2.0
PRODID:-//Plone.org//NONSGML plone.app.event//EN
X-WR-TIMEZONE:Europe/Madrid
BEGIN:VEVENT
SUMMARY:Reunió amb la Federació d'Associacions de Gent Gran de Catalunya
DTSTART;TZID=Europe/Madrid;VALUE=DATE-TIME:20221124T151500
DTEND;TZID=Europe/Madrid;VALUE=DATE-TIME:20221124T161500
DTSTAMP;VALUE=DATE-TIME:20260419T172726Z
UID:e65705571332c3eb754d2fb370b5fded
CREATED;VALUE=DATE-TIME:20221124T000000Z
CATEGORIES:Reunió,Agenda institucional
LOCATION:Plaça de la Vila - Plaça de la Vila, 1
DESCRIPTION:Hi assistirà la regidora de Benestar Social, Gemma Martín
URL:https://ajllavaneres.cat/document.php?id=18651
END:VEVENT
END:VCALENDAR