BEGIN:VCALENDAR
VERSION:2.0
PRODID:-//Plone.org//NONSGML plone.app.event//EN
X-WR-TIMEZONE:Europe/Madrid
BEGIN:VEVENT
SUMMARY:Monogràfic
DTSTART;TZID=Europe/Madrid;VALUE=DATE-TIME:20230113T193000
DTEND;TZID=Europe/Madrid;VALUE=DATE-TIME:20230113T203000
DTSTAMP;VALUE=DATE-TIME:20260420T030031Z
UID:29c2439dc8969051d6733fb937872d49
CREATED;VALUE=DATE-TIME:20230113T000000Z
CATEGORIES:Exposició
LOCATION:Museu-Arxiu de Llavaneres. Can Caralt - Carretera de Sant Vicenç, 14
ORGANIZER:Museu Arxiu de Sant Andreu de Llavaneres
COMMENT:Preu: gratuït
Durada: L'exposició es pot visitar fins al 12 de febrer.
DESCRIPTION:Albert Moleón
URL:https://ajllavaneres.cat/document.php?id=18748
END:VEVENT
END:VCALENDAR