BEGIN:VCALENDAR
VERSION:2.0
PRODID:-//Plone.org//NONSGML plone.app.event//EN
X-WR-TIMEZONE:Europe/Madrid
BEGIN:VEVENT
SUMMARY:Tarda de jocs en família
DTSTART;TZID=Europe/Madrid;VALUE=DATE-TIME:20230225T160000
DTEND;TZID=Europe/Madrid;VALUE=DATE-TIME:20230225T170000
DTSTAMP;VALUE=DATE-TIME:20260419T231432Z
UID:2eec0d4c606d53c745f7e34b5e7052d7
CREATED;VALUE=DATE-TIME:20230225T000000Z
LOCATION:Sala d'actes de la Biblioteca Municipal (accés pel parc de Can Matas) - Clòsens, 65
ORGANIZER:Regidories de Cultura i de Joventut, amb la col·laboració de Qfem3 i Qfem4.
COMMENT:Durada: Fins a les 19 hores.
DESCRIPTION:Obert a tothom!
URL:https://ajllavaneres.cat/document.php?id=19006
END:VEVENT
END:VCALENDAR